BEGIN:VCALENDAR
VERSION:2.0
PRODID:icalendar-ruby
CALSCALE:GREGORIAN
BEGIN:VEVENT
DTSTAMP:20260421T164348Z
UID:654494c9-752d-4a5d-bbee-26ca9b71e47e
DTSTART;VALUE=DATE:20260430
DESCRIPTION:Property ID# 606255\, Time: 12:00PM
SUMMARY:Auction for 12 Cashmere Road
END:VEVENT
END:VCALENDAR
