BEGIN:VCALENDAR
VERSION:2.0
PRODID:icalendar-ruby
CALSCALE:GREGORIAN
BEGIN:VEVENT
DTSTAMP:20260421T131114Z
UID:7c865fe5-d0e3-4f06-89c0-e3f6f1b6fcc8
DTSTART;TZID=Pacific/Auckland:20260419T110000
DTEND;TZID=Pacific/Auckland:20260419T113000
DESCRIPTION:Property ID# 605867
SUMMARY:Openhome for 151 Infinity Drive
END:VEVENT
END:VCALENDAR
