BEGIN:VCALENDAR
VERSION:2.0
PRODID:icalendar-ruby
CALSCALE:GREGORIAN
BEGIN:VEVENT
DTSTAMP:20260421T163907Z
UID:1e3fef5e-85e9-4fcc-8e5c-fc568d2a4c6e
DTSTART;TZID=Pacific/Auckland:20260426T130000
DTEND;TZID=Pacific/Auckland:20260426T133000
DESCRIPTION:Property ID# 601192
SUMMARY:Openhome for 31 Kingsbury Avenue
END:VEVENT
END:VCALENDAR
