BEGIN:VCALENDAR
VERSION:2.0
PRODID:icalendar-ruby
CALSCALE:GREGORIAN
BEGIN:VEVENT
DTSTAMP:20260421T164527Z
UID:5d06a899-7f00-4f2b-a4b3-9467f328b8a0
DTSTART;TZID=Pacific/Auckland:20260426T120000
DTEND;TZID=Pacific/Auckland:20260426T123000
DESCRIPTION:Property ID# 603249
SUMMARY:Openhome for 23 Huntingdon Drive
END:VEVENT
END:VCALENDAR
