BEGIN:VCALENDAR
VERSION:2.0
PRODID:icalendar-ruby
CALSCALE:GREGORIAN
BEGIN:VEVENT
DTSTAMP:20260420T123703Z
UID:554c22f7-9ab8-415e-af07-308b63946198
DTSTART;TZID=Pacific/Auckland:20260419T140000
DTEND;TZID=Pacific/Auckland:20260419T143000
DESCRIPTION:Property ID# 605814
SUMMARY:Openhome for 51 Station Road
END:VEVENT
END:VCALENDAR
